BEGIN:VCALENDAR
VERSION:2.0
PRODID:-//eventon.com NONSGML v1.0//EN
CALSCALE:GREGORIAN
METHOD:PUBLISH
BEGIN:VEVENT
UID:69e89dc6526e3
DTSTAMP:20260422T100702Z
DTSTART:20240316
DTEND:20240317
LOCATION:
SUMMARY:33. Possenlauf 2024
DESCRIPTION:\nhttps://possen-shop.de/events/33-possenlauf-2024/
URL:https://possen-shop.de/events/33-possenlauf-2024/
END:VEVENT
END:VCALENDAR