BEGIN:VCALENDAR
VERSION:2.0
PRODID:-//eventon.com NONSGML v1.0//EN
CALSCALE:GREGORIAN
METHOD:PUBLISH
BEGIN:VEVENT
UID:69e4d2e0df91f
DTSTAMP:20260419T130432Z
DTSTART:20240713T100000Z
DTEND:20240713T150000Z
LOCATION:
SUMMARY:FEUERWEHRFEST AUF DER FESTWIESE
DESCRIPTION:\nhttps://possen-shop.de/events/feuerwehrfest-auf-der-festwiese
 /
URL:https://possen-shop.de/events/feuerwehrfest-auf-der-festwiese/
END:VEVENT
END:VCALENDAR