BEGIN:VCALENDAR
VERSION:2.0
PRODID:-//eventon.com NONSGML v1.0//EN
CALSCALE:GREGORIAN
METHOD:PUBLISH
BEGIN:VEVENT
UID:69e5feee6f341
DTSTAMP:20260420T102446Z
DTSTART:20260613T080000Z
DTEND:20260614T140000Z
LOCATION:
SUMMARY:Große VDH-Hundeausstellung
DESCRIPTION:\nhttps://possen-shop.de/events/vdh-hundeausstellung-der-superl
 ative/
URL:https://possen-shop.de/events/vdh-hundeausstellung-der-superlative/
END:VEVENT
END:VCALENDAR