BEGIN:VCALENDAR
VERSION:2.0
PRODID:-//eventon.com NONSGML v1.0//EN
CALSCALE:GREGORIAN
METHOD:PUBLISH
BEGIN:VEVENT
UID:69e8988f27887
DTSTAMP:20260422T094447Z
DTSTART:20251031T100000Z
DTEND:20251031T170000Z
LOCATION:
SUMMARY:Halloween in der Indoorhalle
DESCRIPTION:\nhttps://possen-shop.de/events/halloween-in-der-indoorhalle/
URL:https://possen-shop.de/events/halloween-in-der-indoorhalle/
END:VEVENT
END:VCALENDAR